Workbook

Sheet Serie storica
C1: 2005 | E1: 2006 | G1: 2007 | I1: 2008 | K1: 2009 | M1: 2010 | O1: 2011 | Q1: 2012 | S1: 2013 | U1: 2014 | W1: 2015 | Y1: 2016 | AA1: 2017 | AC1: 2018
C2: Pre | D2: Post | E2: Pre | F2: Post | G2: Pre | H2: Post | I2: Pre | J2: Post | K2: Pre | L2: Post | M2: Pre | N2: Post | O2: Pre | P2: Post | Q2: Pre | R2: Post | S2: Pre | T2: Post | U2: Pre | V2: Post | W2: Pre | X2: Post | Y2: Pre | Z2: Post | AA2: Pre | AB2: Post | AC2: Pre | AD2: Post
A3: Italia | B3: Meno di 18 | C3: 22.3 | D3: 16.7 | E3: 21.5 | F3: 16.3 | G3: 22 | H3: 15.8 | I3: 21.6 | J3: 15.3 | K3: 21.9 | L3: 16 | M3: 22.9 | N3: 17.4 | O3: 24.7 | P3: 17.7 | Q3: 24.8 | R3: 17.8 | S3: 24.9 | T3: 17.7 | U3: 24.6 | V3: 17.3 | W3: 25.9 | X3: 19.2 | Y3: 26.3 | Z3: 18.9 | AA3: 25.3 | AB3: 17.6 | AC3: 25.1 | AD3: 18.4
B4: 18-24 | C4: 18.8 | D4: 15.3 | E4: 20.5 | F4: 16.4 | G4: 20.1 | H4: 15.3 | I4: 20.7 | J4: 16.2 | K4: 20.1 | L4: 15.1 | M4: 22.4 | N4: 16.7 | O4: 23.6 | P4: 17.8 | Q4: 23.1 | R4: 17.3 | S4: 23.2 | T4: 18 | U4: 24.8 | V4: 18.8 | W4: 24.1 | X4: 18.3 | Y4: 25.1 | Z4: 19.1 | AA4: 22.2 | AB4: 17.4 | AC4: 23.7 | AD4: 18.1
B5: 25-54 | C5: 14.1 | D5: 11.2 | E5: 14.7 | F5: 11.4 | G5: 14.9 | H5: 11.2 | I5: 14.9 | J5: 11 | K5: 14.9 | L5: 10.8 | M5: 16.3 | N5: 12.6 | O5: 18.2 | P5: 13.5 | Q5: 17.8 | R5: 13.3 | S5: 18.5 | T5: 13.5 | U5: 18.6 | V5: 13.9 | W5: 19.5 | X5: 14.3 | Y5: 20.5 | Z5: 15.3 | AA5: 19.3 | AB5: 14.3 | AC5: 19.4 | AD5: 14.9
B6: 55-64 | C6: 13.1 | D6: 9.9 | E6: 12 | F6: 8.6 | G6: 13 | H6: 9.5 | I6: 12.1 | J6: 8.9 | K6: 12.1 | L6: 8.7 | M6: 11.9 | N6: 8.3 | O6: 13.7 | P6: 10 | Q6: 14.5 | R6: 9.9 | S6: 14.9 | T6: 10.9 | U6: 16 | V6: 11.4 | W6: 17.2 | X6: 12.3 | Y6: 18.3 | Z6: 13.2 | AA6: 18.3 | AB6: 13.7 | AC6: 18.9 | AD6: 12.7
B7: Più di 64 | C7: 13.4 | D7: 11.8 | E7: 12.6 | F7: 11.5 | G7: 13.8 | H7: 12.2 | I7: 13.2 | J7: 11.5 | K7: 12 | L7: 10.3 | M7: 9.9 | N7: 7.9 | O7: 9.8 | P7: 7.7 | Q7: 8.1 | R7: 6.9 | S7: 8.3 | T7: 6.8 | U7: 7.5 | V7: 6.1 | W7: 8.1 | X7: 6.8 | Y7: 8.9 | Z7: 7.5 | AA7: 9.1 | AB7: 7.8 | AC7: 9.1 | AD7: 7.6
A8: Francia | B8: Meno di 18 | C8: 25 | D8: 6.5 | E8: 23.6 | F8: 6.6 | G8: 29.2 | H8: 7.6 | I8: 26.9 | J8: 6.8 | K8: 26.7 | L8: 8.9 | M8: 28.7 | N8: 9.5 | O8: 28.3 | P8: 9.4 | Q8: 26.8 | R8: 8.8 | S8: 26.2 | T8: 9 | U8: 26.9 | V8: 8.9 | W8: 27 | X8: 8.4 | Y8: 28.1 | Z8: 9.7 | AA8: 28.6 | AB8: 9.6 | AC8: 28.6 | AD8: 9.6
B9: 18-24 | C9: 25.9 | D9: 10.7 | E9: 26.8 | F9: 11.8 | G9: 25.8 | H9: 12 | I9: 25.8 | J9: 12.8 | K9: 26.4 | L9: 12.7 | M9: 28.8 | N9: 15.9 | O9: 27.8 | P9: 13.5 | Q9: 25.6 | R9: 14.3 | S9: 26.7 | T9: 13.6 | U9: 25.2 | V9: 12.1 | W9: 23.5 | X9: 10 | Y9: 26.6 | Z9: 13.9 | AA9: 24.5 | AB9: 12.5 | AC9: 24.8 | AD9: 12.8
B10: 25-54 | C10: 17.2 | D10: 5.3 | E10: 16.7 | F10: 5.7 | G10: 18.5 | H10: 5.4 | I10: 15.9 | J10: 5.2 | K10: 16.2 | L10: 5.7 | M10: 18.5 | N10: 6.9 | O10: 18 | P10: 6.4 | Q10: 17.4 | R10: 6.5 | S10: 17.6 | T10: 6.3 | U10: 18.8 | V10: 6.6 | W10: 18.2 | X10: 6 | Y10: 18.7 | Z10: 6.8 | AA10: 18.9 | AB10: 6.5 | AC10: 18.4 | AD10: 6.5
B11: 55-64 | C11: 15.1 | D11: 4.8 | E11: 15.6 | F11: 6.7 | G11: 14 | H11: 5.2 | I11: 10.1 | J11: 4 | K11: 12 | L11: 4.8 | M11: 12.7 | N11: 4.6 | O11: 11.9 | P11: 4.8 | Q11: 12 | R11: 4.9 | S11: 13.4 | T11: 5.6 | U11: 12 | V11: 5.1 | W11: 15.7 | X11: 6.7 | Y11: 11.8 | Z11: 4.5 | AA11: 12.6 | AB11: 5.1 | AC11: 13.1 | AD11: 5.4
B12: Più di 64 | C12: 11.5 | D12: 7.9 | E12: 12.1 | F12: 9.1 | G12: 9.9 | H12: 6.9 | I12: 4.6 | J12: 2.5 | K12: 7.9 | L12: 5.3 | M12: 6.5 | N12: 3.8 | O12: 6.6 | P12: 4 | Q12: 6 | R12: 3.8 | S12: 6 | T12: 3.4 | U12: 5.2 | V12: 2.9 | W12: 5.3 | X12: 2.9 | Y12: 5 | Z12: 2.3 | AA12: 4.5 | AB12: 2 | AC12: 5.6 | AD12: 2.3
A13: Germania | B13: Meno di 18 | C13: 22 | D13: 6 | E13: 26 | F13: 6.8 | G13: 22.8 | H13: 8.5 | I13: 23 | J13: 8.3 | K13: 23.1 | L13: 8.6 | M13: 25.3 | N13: 9.4 | O13: 24.8 | P13: 8 | Q13: 23.4 | R13: 7.8 | S13: 23.3 | T13: 7.2 | U13: 23.7 | V13: 8.2 | W13: 23.3 | X13: 7.8 | Y13: 25.1 | Z13: 7.8 | AA13: 23.8 | AB13: 6.9 | AC13: 22.7 | AD13: 7.6
B14: 18-24 | C14: 22 | D14: 9.4 | E14: 23.2 | F14: 8.9 | G14: 26.7 | H14: 14.5 | I14: 24.4 | J14: 13.6 | K14: 24.6 | L14: 13.7 | M14: 23.9 | N14: 11.9 | O14: 23.7 | P14: 12.6 | Q14: 24.8 | R14: 12.3 | S14: 21.8 | T14: 11.6 | U14: 24.1 | V14: 14.7 | W14: 24.3 | X14: 12.1 | Y14: 24.4 | Z14: 12.7 | AA14: 22.9 | AB14: 13.9 | AC14: 23.2 | AD14: 13.5
B15: 25-54 | C15: 17.3 | D15: 6.2 | E15: 20.6 | F15: 7.2 | G15: 18.5 | H15: 9 | I15: 18.3 | J15: 8.6 | K15: 18.1 | L15: 8.7 | M15: 18.4 | N15: 8.5 | O15: 19.4 | P15: 9.5 | Q15: 18.3 | R15: 8.7 | S15: 18.5 | T15: 8.8 | U15: 19.6 | V15: 10.3 | W15: 19 | X15: 9.4 | Y15: 18.4 | Z15: 9 | AA15: 17.5 | AB15: 8.4 | AC15: 16.8 | AD15: 8.7
B16: 55-64 | C16: 19.2 | D16: 7.3 | E16: 23 | F16: 8 | G16: 23.6 | H16: 11 | I16: 22.6 | J16: 11.5 | K16: 21.9 | L16: 12.3 | M16: 22.8 | N16: 12.3 | O16: 24.4 | P16: 13.6 | Q16: 23.9 | R16: 13.4 | S16: 24.6 | T16: 14 | U16: 24.6 | V16: 13.3 | W16: 24.8 | X16: 15.3 | Y16: 22.4 | Z16: 12.8 | AA16: 21.6 | AB16: 12.7 | AC16: 21.1 | AD16: 13.3
B17: Più di 64 | C17: 8.1 | D17: 6.6 | E17: 8 | F17: 6.3 | G17: 10.1 | H17: 8.7 | I17: 8.5 | J17: 7.5 | K17: 8.5 | L17: 7.5 | M17: 8.7 | N17: 7 | O17: 9 | P17: 7.3 | Q17: 9.3 | R17: 8.4 | S17: 9.4 | T17: 8 | U17: 10.4 | V17: 9.1 | W17: 10.2 | X17: 9 | Y17: 11.1 | Z17: 9.4 | AA17: 10.6 | AB17: 9.2 | AC17: 11.1 | AD17: 9.7
A18: Grecia | B18: Meno di 18 | C18: 15.1 | D18: 12.6 | E18: 17.6 | F18: 15 | G18: 18.2 | H18: 15.2 | I18: 18 | J18: 15.6 | K18: 18.5 | L18: 16.1 | M18: 18.7 | N18: 15.3 | O18: 18.8 | P18: 15.5 | Q18: 23.4 | R18: 20.6 | S18: 27.1 | T18: 22.3 | U18: 24.3 | V18: 19.8 | W18: 24.8 | X18: 19.3 | Y18: 26 | Z18: 19.1 | AA18: 24.3 | AB18: 17.6 | AC18: 23.7 | AD18: 16.2
B19: 18-24 | C19: 16.8 | D19: 14.2 | E19: 18.7 | F19: 16 | G19: 17.5 | H19: 15.2 | I19: 17.4 | J19: 14.8 | K19: 16.5 | L19: 13.1 | M19: 20.7 | N19: 18 | O19: 21.9 | P19: 19.7 | Q19: 27.9 | R19: 25.4 | S19: 29.9 | T19: 25.9 | U19: 27.5 | V19: 23.3 | W19: 24.5 | X19: 20.8 | Y19: 25.2 | Z19: 21.7 | AA19: 25.1 | AB19: 22.2 | AC19: 23.8 | AD19: 19.3
B20: 25-54 | C20: 12.2 | D20: 9.6 | E20: 13.6 | F20: 11.1 | G20: 14 | H20: 11.2 | I20: 13.9 | J20: 11.3 | K20: 13.7 | L20: 11.5 | M20: 14.3 | N20: 11.7 | O20: 16.2 | P20: 12.5 | Q20: 20.8 | R20: 17 | S20: 22.2 | T20: 17.8 | U20: 21.5 | V20: 17.3 | W20: 20.2 | X20: 16.6 | Y20: 21.3 | Z20: 17.1 | AA20: 20 | AB20: 15.8 | AC20: 18.4 | AD20: 14.1
B21: 55-64 | C21: 17.4 | D21: 13.7 | E21: 16.6 | F21: 12.3 | G21: 16.5 | H21: 12.6 | I21: 18.2 | J21: 13.2 | K21: 17.8 | L21: 12.9 | M21: 17.4 | N21: 12.5 | O21: 18.1 | P21: 13.3 | Q21: 18.4 | R21: 13.1 | S21: 17.9 | T21: 14 | U21: 17.4 | V21: 13.3 | W21: 17.1 | X21: 13.5 | Y21: 17.9 | Z21: 14.3 | AA21: 17.2 | AB21: 14.1 | AC21: 16.9 | AD21: 13.3
B22: Più di 64 | C22: 21.5 | D22: 17.7 | E22: 20 | F22: 16.5 | G22: 18.7 | H22: 14.7 | I22: 16.3 | J22: 12.3 | K22: 14.5 | L22: 10.2 | M22: 14.3 | N22: 9.6 | O22: 19.4 | P22: 14.5 | Q22: 12.2 | R22: 7.8 | S22: 9.3 | T22: 6.5 | U22: 9.8 | V22: 7.8 | W22: 9.3 | X22: 7.1 | Y22: 8.6 | Z22: 6.9 | AA22: 8.6 | AB22: 7 | AC22: 7.9 | AD22: 6.3
A23: Portogallo | B23: Meno di 18 | C23: 24.5 | D23: 16.6 | E23: 21.4 | F23: 13.2 | G23: 21.8 | H23: 13.7 | I23: 22.4 | J23: 15.7 | K23: 23.8 | L23: 14.9 | M23: 25.8 | N23: 15.2 | O23: 23.7 | P23: 14.9 | Q23: 22.6 | R23: 16.2 | S23: 25.3 | T23: 17.4 | U23: 27.1 | V23: 19.1 | W23: 25.5 | X23: 18.3 | Y23: 22.3 | Z23: 16.7 | AA23: 20.2 | AB23: 15.6 | AC23: 18.6 | AD23: 12.8
B24: 18-24 | C24: 16.2 | D24: 10.8 | E24: 15.8 | F24: 10.5 | G24: 17.4 | H24: 10.7 | I24: 19.2 | J24: 13.2 | K24: 16.5 | L24: 10.7 | M24: 20.7 | N24: 13.2 | O24: 22.9 | P24: 16 | Q24: 23.8 | R24: 14.9 | S24: 26.7 | T24: 17.7 | U24: 27.8 | V24: 19.4 | W24: 27.3 | X24: 19.3 | Y24: 22.6 | Z24: 16.8 | AA24: 23.2 | AB24: 17.2 | AC24: 21.1 | AD24: 14.7
B25: 25-54 | C25: 16.1 | D25: 10.3 | E25: 15.4 | F25: 9.1 | G25: 15.8 | H25: 9.3 | I25: 15.2 | J25: 10.1 | K25: 15.4 | L25: 9.2 | M25: 17.5 | N25: 10.1 | O25: 16.7 | P25: 9.5 | Q25: 17.1 | R25: 10.8 | S25: 19.4 | T25: 12.3 | U25: 19.9 | V25: 12.4 | W25: 19.3 | X25: 12.6 | Y25: 17.6 | Z25: 11.6 | AA25: 16.7 | AB25: 11.2 | AC25: 14.4 | AD25: 9.3
B26: 55-64 | C26: 21.2 | D26: 12.7 | E26: 23.3 | F26: 13.2 | G26: 21.8 | H26: 13.7 | I26: 22.3 | J26: 13.4 | K26: 21.4 | L26: 12.7 | M26: 23.8 | N26: 11.7 | O26: 19.7 | P26: 10.8 | Q26: 22.1 | R26: 11.5 | S26: 22.3 | T26: 12.7 | U26: 24.6 | V26: 14.4 | W26: 25.2 | X26: 14.3 | Y26: 24.3 | Z26: 13.5 | AA26: 24 | AB26: 14 | AC26: 20.5 | AD26: 12.5
B27: Più di 64 | C27: 18.1 | D27: 14.1 | E27: 17.7 | F27: 13.4 | G27: 17.2 | H27: 13.3 | I27: 13.9 | J27: 11.7 | K27: 11.9 | L27: 9.1 | M27: 12.7 | N27: 10.1 | O27: 10.7 | P27: 8.2 | Q27: 8.8 | R27: 6.6 | S27: 8.4 | T27: 6.3 | U27: 11.2 | V27: 8.7 | W27: 11.8 | X27: 9.1 | Y27: 12.7 | Z27: 9.7 | AA27: 11.1 | AB27: 8 | AC27: 11.3 | AD27: 8.7

Sheet Impatto medio
C1: Pre crisi (2005-2008) | F1: Periodo crisi (2009-2013) | I1: Post crisi (2014-2018)
C2: Pre | D2: Post | E2: Impatto medio | F2: Pre | G2: Post | H2: Impatto medio | I2: Pre | J2: Post | K2: Impatto medio
A3: Italia | B3: Meno di 18 | C3: =AVERAGE('Serie storica'!C3,'Serie storica'!E3,'Serie storica'!G3,'Serie storica'!I3) -> 21.85 | D3: =AVERAGE('Serie storica'!D3,'Serie storica'!F3,'Serie storica'!H3,'Serie storica'!J3) -> 16.025 | E3: =C3-D3 -> 5.825 | F3: =AVERAGE('Serie storica'!K3,'Serie storica'!M3,'Serie storica'!O3,'Serie storica'!Q3,'Serie storica'!S3,) -> 19.866667 | G3: =AVERAGE('Serie storica'!L3,'Serie storica'!N3,'Serie storica'!P3,'Serie storica'!R3,'Serie storica'!T3,) -> 14.433333 | H3: =F3-G3 -> 5.4333333 | I3: =AVERAGE('Serie storica'!U3,'Serie storica'!W3,'Serie storica'!Y3,'Serie storica'!AA3,'Serie storica'!AC3) -> 25.44 | J3: =AVERAGE('Serie storica'!V3,'Serie storica'!X3,'Serie storica'!Z3,'Serie storica'!AB3,'Serie storica'!AD3) -> 18.28 | K3: =I3-J3 -> 7.16
B4: 18-24 | C4: =AVERAGE('Serie storica'!C4,'Serie storica'!E4,'Serie storica'!G4,'Serie storica'!I4) -> 20.025 | D4: =AVERAGE('Serie storica'!D4,'Serie storica'!F4,'Serie storica'!H4,'Serie storica'!J4) -> 15.8 | E4: =C4-D4 -> 4.225 | F4: =AVERAGE('Serie storica'!K4,'Serie storica'!M4,'Serie storica'!O4,'Serie storica'!Q4,'Serie storica'!S4,) -> 18.733333 | G4: =AVERAGE('Serie storica'!L4,'Serie storica'!N4,'Serie storica'!P4,'Serie storica'!R4,'Serie storica'!T4,) -> 14.15 | H4: =F4-G4 -> 4.5833333 | I4: =AVERAGE('Serie storica'!U4,'Serie storica'!W4,'Serie storica'!Y4,'Serie storica'!AA4,'Serie storica'!AC4) -> 23.98 | J4: =AVERAGE('Serie storica'!V4,'Serie storica'!X4,'Serie storica'!Z4,'Serie storica'!AB4,'Serie storica'!AD4) -> 18.34 | K4: =I4-J4 -> 5.64
B5: 25-54 | C5: =AVERAGE('Serie storica'!C5,'Serie storica'!E5,'Serie storica'!G5,'Serie storica'!I5) -> 14.65 | D5: =AVERAGE('Serie storica'!D5,'Serie storica'!F5,'Serie storica'!H5,'Serie storica'!J5) -> 11.2 | E5: =C5-D5 -> 3.45 | F5: =AVERAGE('Serie storica'!K5,'Serie storica'!M5,'Serie storica'!O5,'Serie storica'!Q5,'Serie storica'!S5,) -> 14.283333 | G5: =AVERAGE('Serie storica'!L5,'Serie storica'!N5,'Serie storica'!P5,'Serie storica'!R5,'Serie storica'!T5,) -> 10.616667 | H5: =F5-G5 -> 3.6666667 | I5: =AVERAGE('Serie storica'!U5,'Serie storica'!W5,'Serie storica'!Y5,'Serie storica'!AA5,'Serie storica'!AC5) -> 19.46 | J5: =AVERAGE('Serie storica'!V5,'Serie storica'!X5,'Serie storica'!Z5,'Serie storica'!AB5,'Serie storica'!AD5) -> 14.54 | K5: =I5-J5 -> 4.92
B6: 55-64 | C6: =AVERAGE('Serie storica'!C6,'Serie storica'!E6,'Serie storica'!G6,'Serie storica'!I6) -> 12.55 | D6: =AVERAGE('Serie storica'!D6,'Serie storica'!F6,'Serie storica'!H6,'Serie storica'!J6) -> 9.225 | E6: =C6-D6 -> 3.325 | F6: =AVERAGE('Serie storica'!K6,'Serie storica'!M6,'Serie storica'!O6,'Serie storica'!Q6,'Serie storica'!S6,) -> 11.183333 | G6: =AVERAGE('Serie storica'!L6,'Serie storica'!N6,'Serie storica'!P6,'Serie storica'!R6,'Serie storica'!T6,) -> 7.9666667 | H6: =F6-G6 -> 3.2166667 | I6: =AVERAGE('Serie storica'!U6,'Serie storica'!W6,'Serie storica'!Y6,'Serie storica'!AA6,'Serie storica'!AC6) -> 17.74 | J6: =AVERAGE('Serie storica'!V6,'Serie storica'!X6,'Serie storica'!Z6,'Serie storica'!AB6,'Serie storica'!AD6) -> 12.66 | K6: =I6-J6 -> 5.08
B7: Più di 64 | C7: =AVERAGE('Serie storica'!C7,'Serie storica'!E7,'Serie storica'!G7,'Serie storica'!I7) -> 13.25 | D7: =AVERAGE('Serie storica'!D7,'Serie storica'!F7,'Serie storica'!H7,'Serie storica'!J7) -> 11.75 | E7: =C7-D7 -> 1.5 | F7: =AVERAGE('Serie storica'!K7,'Serie storica'!M7,'Serie storica'!O7,'Serie storica'!Q7,'Serie storica'!S7,) -> 8.0166667 | G7: =AVERAGE('Serie storica'!L7,'Serie storica'!N7,'Serie storica'!P7,'Serie storica'!R7,'Serie storica'!T7,) -> 6.6 | H7: =F7-G7 -> 1.4166667 | I7: =AVERAGE('Serie storica'!U7,'Serie storica'!W7,'Serie storica'!Y7,'Serie storica'!AA7,'Serie storica'!AC7) -> 8.54 | J7: =AVERAGE('Serie storica'!V7,'Serie storica'!X7,'Serie storica'!Z7,'Serie storica'!AB7,'Serie storica'!AD7) -> 7.16 | K7: =I7-J7 -> 1.38
A8: Francia | B8: Meno di 18 | C8: =AVERAGE('Serie storica'!C8,'Serie storica'!E8,'Serie storica'!G8,'Serie storica'!I8) -> 26.175 | D8: =AVERAGE('Serie storica'!D8,'Serie storica'!F8,'Serie storica'!H8,'Serie storica'!J8) -> 6.875 | E8: =C8-D8 -> 19.3 | F8: =AVERAGE('Serie storica'!K8,'Serie storica'!M8,'Serie storica'!O8,'Serie storica'!Q8,'Serie storica'!S8,) -> 22.783333 | G8: =AVERAGE('Serie storica'!L8,'Serie storica'!N8,'Serie storica'!P8,'Serie storica'!R8,'Serie storica'!T8,) -> 7.6 | H8: =F8-G8 -> 15.183333 | I8: =AVERAGE('Serie storica'!U8,'Serie storica'!W8,'Serie storica'!Y8,'Serie storica'!AA8,'Serie storica'!AC8) -> 27.84 | J8: =AVERAGE('Serie storica'!V8,'Serie storica'!X8,'Serie storica'!Z8,'Serie storica'!AB8,'Serie storica'!AD8) -> 9.24 | K8: =I8-J8 -> 18.6
B9: 18-24 | C9: =AVERAGE('Serie storica'!C9,'Serie storica'!E9,'Serie storica'!G9,'Serie storica'!I9) -> 26.075 | D9: =AVERAGE('Serie storica'!D9,'Serie storica'!F9,'Serie storica'!H9,'Serie storica'!J9) -> 11.825 | E9: =C9-D9 -> 14.25 | F9: =AVERAGE('Serie storica'!K9,'Serie storica'!M9,'Serie storica'!O9,'Serie storica'!Q9,'Serie storica'!S9,) -> 22.55 | G9: =AVERAGE('Serie storica'!L9,'Serie storica'!N9,'Serie storica'!P9,'Serie storica'!R9,'Serie storica'!T9,) -> 11.666667 | H9: =F9-G9 -> 10.883333 | I9: =AVERAGE('Serie storica'!U9,'Serie storica'!W9,'Serie storica'!Y9,'Serie storica'!AA9,'Serie storica'!AC9) -> 24.92 | J9: =AVERAGE('Serie storica'!V9,'Serie storica'!X9,'Serie storica'!Z9,'Serie storica'!AB9,'Serie storica'!AD9) -> 12.26 | K9: =I9-J9 -> 12.66
B10: 25-54 | C10: =AVERAGE('Serie storica'!C10,'Serie storica'!E10,'Serie storica'!G10,'Serie storica'!I10) -> 17.075 | D10: =AVERAGE('Serie storica'!D10,'Serie storica'!F10,'Serie storica'!H10,'Serie storica'!J10) -> 5.4 | E10: =C10-D10 -> 11.675 | F10: =AVERAGE('Serie storica'!K10,'Serie storica'!M10,'Serie storica'!O10,'Serie storica'!Q10,'Serie storica'!S10,) -> 14.616667 | G10: =AVERAGE('Serie storica'!L10,'Serie storica'!N10,'Serie storica'!P10,'Serie storica'!R10,'Serie storica'!T10,) -> 5.3 | H10: =F10-G10 -> 9.3166667 | I10: =AVERAGE('Serie storica'!U10,'Serie storica'!W10,'Serie storica'!Y10,'Serie storica'!AA10,'Serie storica'!AC10) -> 18.6 | J10: =AVERAGE('Serie storica'!V10,'Serie storica'!X10,'Serie storica'!Z10,'Serie storica'!AB10,'Serie storica'!AD10) -> 6.48 | K10: =I10-J10 -> 12.12
B11: 55-64 | C11: =AVERAGE('Serie storica'!C11,'Serie storica'!E11,'Serie storica'!G11,'Serie storica'!I11) -> 13.7 | D11: =AVERAGE('Serie storica'!D11,'Serie storica'!F11,'Serie storica'!H11,'Serie storica'!J11) -> 5.175 | E11: =C11-D11 -> 8.525 | F11: =AVERAGE('Serie storica'!K11,'Serie storica'!M11,'Serie storica'!O11,'Serie storica'!Q11,'Serie storica'!S11,) -> 10.333333 | G11: =AVERAGE('Serie storica'!L11,'Serie storica'!N11,'Serie storica'!P11,'Serie storica'!R11,'Serie storica'!T11,) -> 4.1166667 | H11: =F11-G11 -> 6.2166667 | I11: =AVERAGE('Serie storica'!U11,'Serie storica'!W11,'Serie storica'!Y11,'Serie storica'!AA11,'Serie storica'!AC11) -> 13.04 | J11: =AVERAGE('Serie storica'!V11,'Serie storica'!X11,'Serie storica'!Z11,'Serie storica'!AB11,'Serie storica'!AD11) -> 5.36 | K11: =I11-J11 -> 7.68
B12: Più di 64 | C12: =AVERAGE('Serie storica'!C12,'Serie storica'!E12,'Serie storica'!G12,'Serie storica'!I12) -> 9.525 | D12: =AVERAGE('Serie storica'!D12,'Serie storica'!F12,'Serie storica'!H12,'Serie storica'!J12) -> 6.6 | E12: =C12-D12 -> 2.925 | F12: =AVERAGE('Serie storica'!K12,'Serie storica'!M12,'Serie storica'!O12,'Serie storica'!Q12,'Serie storica'!S12,) -> 5.5 | G12: =AVERAGE('Serie storica'!L12,'Serie storica'!N12,'Serie storica'!P12,'Serie storica'!R12,'Serie storica'!T12,) -> 3.3833333 | H12: =F12-G12 -> 2.1166667 | I12: =AVERAGE('Serie storica'!U12,'Serie storica'!W12,'Serie storica'!Y12,'Serie storica'!AA12,'Serie storica'!AC12) -> 5.12 | J12: =AVERAGE('Serie storica'!V12,'Serie storica'!X12,'Serie storica'!Z12,'Serie storica'!AB12,'Serie storica'!AD12) -> 2.48 | K12: =I12-J12 -> 2.64
A13: Germania | B13: Meno di 18 | C13: =AVERAGE('Serie storica'!C13,'Serie storica'!E13,'Serie storica'!G13,'Serie storica'!I13) -> 23.45 | D13: =AVERAGE('Serie storica'!D13,'Serie storica'!F13,'Serie storica'!H13,'Serie storica'!J13) -> 7.4 | E13: =C13-D13 -> 16.05 | F13: =AVERAGE('Serie storica'!K13,'Serie storica'!M13,'Serie storica'!O13,'Serie storica'!Q13,'Serie storica'!S13,) -> 19.983333 | G13: =AVERAGE('Serie storica'!L13,'Serie storica'!N13,'Serie storica'!P13,'Serie storica'!R13,'Serie storica'!T13,) -> 6.8333333 | H13: =F13-G13 -> 13.15 | I13: =AVERAGE('Serie storica'!U13,'Serie storica'!W13,'Serie storica'!Y13,'Serie storica'!AA13,'Serie storica'!AC13) -> 23.72 | J13: =AVERAGE('Serie storica'!V13,'Serie storica'!X13,'Serie storica'!Z13,'Serie storica'!AB13,'Serie storica'!AD13) -> 7.66 | K13: =I13-J13 -> 16.06
B14: 18-24 | C14: =AVERAGE('Serie storica'!C14,'Serie storica'!E14,'Serie storica'!G14,'Serie storica'!I14) -> 24.075 | D14: =AVERAGE('Serie storica'!D14,'Serie storica'!F14,'Serie storica'!H14,'Serie storica'!J14) -> 11.6 | E14: =C14-D14 -> 12.475 | F14: =AVERAGE('Serie storica'!K14,'Serie storica'!M14,'Serie storica'!O14,'Serie storica'!Q14,'Serie storica'!S14,) -> 19.8 | G14: =AVERAGE('Serie storica'!L14,'Serie storica'!N14,'Serie storica'!P14,'Serie storica'!R14,'Serie storica'!T14,) -> 10.35 | H14: =F14-G14 -> 9.45 | I14: =AVERAGE('Serie storica'!U14,'Serie storica'!W14,'Serie storica'!Y14,'Serie storica'!AA14,'Serie storica'!AC14) -> 23.78 | J14: =AVERAGE('Serie storica'!V14,'Serie storica'!X14,'Serie storica'!Z14,'Serie storica'!AB14,'Serie storica'!AD14) -> 13.38 | K14: =I14-J14 -> 10.4
B15: 25-54 | C15: =AVERAGE('Serie storica'!C15,'Serie storica'!E15,'Serie storica'!G15,'Serie storica'!I15) -> 18.675 | D15: =AVERAGE('Serie storica'!D15,'Serie storica'!F15,'Serie storica'!H15,'Serie storica'!J15) -> 7.75 | E15: =C15-D15 -> 10.925 | F15: =AVERAGE('Serie storica'!K15,'Serie storica'!M15,'Serie storica'!O15,'Serie storica'!Q15,'Serie storica'!S15,) -> 15.45 | G15: =AVERAGE('Serie storica'!L15,'Serie storica'!N15,'Serie storica'!P15,'Serie storica'!R15,'Serie storica'!T15,) -> 7.3666667 | H15: =F15-G15 -> 8.0833333 | I15: =AVERAGE('Serie storica'!U15,'Serie storica'!W15,'Serie storica'!Y15,'Serie storica'!AA15,'Serie storica'!AC15) -> 18.26 | J15: =AVERAGE('Serie storica'!V15,'Serie storica'!X15,'Serie storica'!Z15,'Serie storica'!AB15,'Serie storica'!AD15) -> 9.16 | K15: =I15-J15 -> 9.1
B16: 55-64 | C16: =AVERAGE('Serie storica'!C16,'Serie storica'!E16,'Serie storica'!G16,'Serie storica'!I16) -> 22.1 | D16: =AVERAGE('Serie storica'!D16,'Serie storica'!F16,'Serie storica'!H16,'Serie storica'!J16) -> 9.45 | E16: =C16-D16 -> 12.65 | F16: =AVERAGE('Serie storica'!K16,'Serie storica'!M16,'Serie storica'!O16,'Serie storica'!Q16,'Serie storica'!S16,) -> 19.6 | G16: =AVERAGE('Serie storica'!L16,'Serie storica'!N16,'Serie storica'!P16,'Serie storica'!R16,'Serie storica'!T16,) -> 10.933333 | H16: =F16-G16 -> 8.6666667 | I16: =AVERAGE('Serie storica'!U16,'Serie storica'!W16,'Serie storica'!Y16,'Serie storica'!AA16,'Serie storica'!AC16) -> 22.9 | J16: =AVERAGE('Serie storica'!V16,'Serie storica'!X16,'Serie storica'!Z16,'Serie storica'!AB16,'Serie storica'!AD16) -> 13.48 | K16: =I16-J16 -> 9.42
B17: Più di 64 | C17: =AVERAGE('Serie storica'!C17,'Serie storica'!E17,'Serie storica'!G17,'Serie storica'!I17) -> 8.675 | D17: =AVERAGE('Serie storica'!D17,'Serie storica'!F17,'Serie storica'!H17,'Serie storica'!J17) -> 7.275 | E17: =C17-D17 -> 1.4 | F17: =AVERAGE('Serie storica'!K17,'Serie storica'!M17,'Serie storica'!O17,'Serie storica'!Q17,'Serie storica'!S17,) -> 7.4833333 | G17: =AVERAGE('Serie storica'!L17,'Serie storica'!N17,'Serie storica'!P17,'Serie storica'!R17,'Serie storica'!T17,) -> 6.3666667 | H17: =F17-G17 -> 1.1166667 | I17: =AVERAGE('Serie storica'!U17,'Serie storica'!W17,'Serie storica'!Y17,'Serie storica'!AA17,'Serie storica'!AC17) -> 10.68 | J17: =AVERAGE('Serie storica'!V17,'Serie storica'!X17,'Serie storica'!Z17,'Serie storica'!AB17,'Serie storica'!AD17) -> 9.28 | K17: =I17-J17 -> 1.4
A18: Grecia | B18: Meno di 18 | C18: =AVERAGE('Serie storica'!C18,'Serie storica'!E18,'Serie storica'!G18,'Serie storica'!I18) -> 17.225 | D18: =AVERAGE('Serie storica'!D18,'Serie storica'!F18,'Serie storica'!H18,'Serie storica'!J18) -> 14.6 | E18: =C18-D18 -> 2.625 | F18: =AVERAGE('Serie storica'!K18,'Serie storica'!M18,'Serie storica'!O18,'Serie storica'!Q18,'Serie storica'!S18,) -> 17.75 | G18: =AVERAGE('Serie storica'!L18,'Serie storica'!N18,'Serie storica'!P18,'Serie storica'!R18,'Serie storica'!T18,) -> 14.966667 | H18: =F18-G18 -> 2.7833333 | I18: =AVERAGE('Serie storica'!U18,'Serie storica'!W18,'Serie storica'!Y18,'Serie storica'!AA18,'Serie storica'!AC18) -> 24.62 | J18: =AVERAGE('Serie storica'!V18,'Serie storica'!X18,'Serie storica'!Z18,'Serie storica'!AB18,'Serie storica'!AD18) -> 18.4 | K18: =I18-J18 -> 6.22
B19: 18-24 | C19: =AVERAGE('Serie storica'!C19,'Serie storica'!E19,'Serie storica'!G19,'Serie storica'!I19) -> 17.6 | D19: =AVERAGE('Serie storica'!D19,'Serie storica'!F19,'Serie storica'!H19,'Serie storica'!J19) -> 15.05 | E19: =C19-D19 -> 2.55 | F19: =AVERAGE('Serie storica'!K19,'Serie storica'!M19,'Serie storica'!O19,'Serie storica'!Q19,'Serie storica'!S19,) -> 19.483333 | G19: =AVERAGE('Serie storica'!L19,'Serie storica'!N19,'Serie storica'!P19,'Serie storica'!R19,'Serie storica'!T19,) -> 17.016667 | H19: =F19-G19 -> 2.4666667 | I19: =AVERAGE('Serie storica'!U19,'Serie storica'!W19,'Serie storica'!Y19,'Serie storica'!AA19,'Serie storica'!AC19) -> 25.22 | J19: =AVERAGE('Serie storica'!V19,'Serie storica'!X19,'Serie storica'!Z19,'Serie storica'!AB19,'Serie storica'!AD19) -> 21.46 | K19: =I19-J19 -> 3.76
B20: 25-54 | C20: =AVERAGE('Serie storica'!C20,'Serie storica'!E20,'Serie storica'!G20,'Serie storica'!I20) -> 13.425 | D20: =AVERAGE('Serie storica'!D20,'Serie storica'!F20,'Serie storica'!H20,'Serie storica'!J20) -> 10.8 | E20: =C20-D20 -> 2.625 | F20: =AVERAGE('Serie storica'!K20,'Serie storica'!M20,'Serie storica'!O20,'Serie storica'!Q20,'Serie storica'!S20,) -> 14.533333 | G20: =AVERAGE('Serie storica'!L20,'Serie storica'!N20,'Serie storica'!P20,'Serie storica'!R20,'Serie storica'!T20,) -> 11.75 | H20: =F20-G20 -> 2.7833333 | I20: =AVERAGE('Serie storica'!U20,'Serie storica'!W20,'Serie storica'!Y20,'Serie storica'!AA20,'Serie storica'!AC20) -> 20.28 | J20: =AVERAGE('Serie storica'!V20,'Serie storica'!X20,'Serie storica'!Z20,'Serie storica'!AB20,'Serie storica'!AD20) -> 16.18 | K20: =I20-J20 -> 4.1
B21: 55-64 | C21: =AVERAGE('Serie storica'!C21,'Serie storica'!E21,'Serie storica'!G21,'Serie storica'!I21) -> 17.175 | D21: =AVERAGE('Serie storica'!D21,'Serie storica'!F21,'Serie storica'!H21,'Serie storica'!J21) -> 12.95 | E21: =C21-D21 -> 4.225 | F21: =AVERAGE('Serie storica'!K21,'Serie storica'!M21,'Serie storica'!O21,'Serie storica'!Q21,'Serie storica'!S21,) -> 14.933333 | G21: =AVERAGE('Serie storica'!L21,'Serie storica'!N21,'Serie storica'!P21,'Serie storica'!R21,'Serie storica'!T21,) -> 10.966667 | H21: =F21-G21 -> 3.9666667 | I21: =AVERAGE('Serie storica'!U21,'Serie storica'!W21,'Serie storica'!Y21,'Serie storica'!AA21,'Serie storica'!AC21) -> 17.3 | J21: =AVERAGE('Serie storica'!V21,'Serie storica'!X21,'Serie storica'!Z21,'Serie storica'!AB21,'Serie storica'!AD21) -> 13.7 | K21: =I21-J21 -> 3.6
B22: Più di 64 | C22: =AVERAGE('Serie storica'!C22,'Serie storica'!E22,'Serie storica'!G22,'Serie storica'!I22) -> 19.125 | D22: =AVERAGE('Serie storica'!D22,'Serie storica'!F22,'Serie storica'!H22,'Serie storica'!J22) -> 15.3 | E22: =C22-D22 -> 3.825 | F22: =AVERAGE('Serie storica'!K22,'Serie storica'!M22,'Serie storica'!O22,'Serie storica'!Q22,'Serie storica'!S22,) -> 11.616667 | G22: =AVERAGE('Serie storica'!L22,'Serie storica'!N22,'Serie storica'!P22,'Serie storica'!R22,'Serie storica'!T22,) -> 8.1 | H22: =F22-G22 -> 3.5166667 | I22: =AVERAGE('Serie storica'!U22,'Serie storica'!W22,'Serie storica'!Y22,'Serie storica'!AA22,'Serie storica'!AC22) -> 8.84 | J22: =AVERAGE('Serie storica'!V22,'Serie storica'!X22,'Serie storica'!Z22,'Serie storica'!AB22,'Serie storica'!AD22) -> 7.02 | K22: =I22-J22 -> 1.82
A23: Portogallo | B23: Meno di 18 | C23: =AVERAGE('Serie storica'!C23,'Serie storica'!E23,'Serie storica'!G23,'Serie storica'!I23) -> 22.525 | D23: =AVERAGE('Serie storica'!D23,'Serie storica'!F23,'Serie storica'!H23,'Serie storica'!J23) -> 14.8 | E23: =C23-D23 -> 7.725 | F23: =AVERAGE('Serie storica'!K23,'Serie storica'!M23,'Serie storica'!O23,'Serie storica'!Q23,'Serie storica'!S23,) -> 20.2 | G23: =AVERAGE('Serie storica'!L23,'Serie storica'!N23,'Serie storica'!P23,'Serie storica'!R23,'Serie storica'!T23,) -> 13.1 | H23: =F23-G23 -> 7.1 | I23: =AVERAGE('Serie storica'!U23,'Serie storica'!W23,'Serie storica'!Y23,'Serie storica'!AA23,'Serie storica'!AC23) -> 22.74 | J23: =AVERAGE('Serie storica'!V23,'Serie storica'!X23,'Serie storica'!Z23,'Serie storica'!AB23,'Serie storica'!AD23) -> 16.5 | K23: =I23-J23 -> 6.24
B24: 18-24 | C24: =AVERAGE('Serie storica'!C24,'Serie storica'!E24,'Serie storica'!G24,'Serie storica'!I24) -> 17.15 | D24: =AVERAGE('Serie storica'!D24,'Serie storica'!F24,'Serie storica'!H24,'Serie storica'!J24) -> 11.3 | E24: =C24-D24 -> 5.85 | F24: =AVERAGE('Serie storica'!K24,'Serie storica'!M24,'Serie storica'!O24,'Serie storica'!Q24,'Serie storica'!S24,) -> 18.433333 | G24: =AVERAGE('Serie storica'!L24,'Serie storica'!N24,'Serie storica'!P24,'Serie storica'!R24,'Serie storica'!T24,) -> 12.083333 | H24: =F24-G24 -> 6.35 | I24: =AVERAGE('Serie storica'!U24,'Serie storica'!W24,'Serie storica'!Y24,'Serie storica'!AA24,'Serie storica'!AC24) -> 24.4 | J24: =AVERAGE('Serie storica'!V24,'Serie storica'!X24,'Serie storica'!Z24,'Serie storica'!AB24,'Serie storica'!AD24) -> 17.48 | K24: =I24-J24 -> 6.92
B25: 25-54 | C25: =AVERAGE('Serie storica'!C25,'Serie storica'!E25,'Serie storica'!G25,'Serie storica'!I25) -> 15.625 | D25: =AVERAGE('Serie storica'!D25,'Serie storica'!F25,'Serie storica'!H25,'Serie storica'!J25) -> 9.7 | E25: =C25-D25 -> 5.925 | F25: =AVERAGE('Serie storica'!K25,'Serie storica'!M25,'Serie storica'!O25,'Serie storica'!Q25,'Serie storica'!S25,) -> 14.35 | G25: =AVERAGE('Serie storica'!L25,'Serie storica'!N25,'Serie storica'!P25,'Serie storica'!R25,'Serie storica'!T25,) -> 8.65 | H25: =F25-G25 -> 5.7 | I25: =AVERAGE('Serie storica'!U25,'Serie storica'!W25,'Serie storica'!Y25,'Serie storica'!AA25,'Serie storica'!AC25) -> 17.58 | J25: =AVERAGE('Serie storica'!V25,'Serie storica'!X25,'Serie storica'!Z25,'Serie storica'!AB25,'Serie storica'!AD25) -> 11.42 | K25: =I25-J25 -> 6.16
B26: 55-64 | C26: =AVERAGE('Serie storica'!C26,'Serie storica'!E26,'Serie storica'!G26,'Serie storica'!I26) -> 22.15 | D26: =AVERAGE('Serie storica'!D26,'Serie storica'!F26,'Serie storica'!H26,'Serie storica'!J26) -> 13.25 | E26: =C26-D26 -> 8.9 | F26: =AVERAGE('Serie storica'!K26,'Serie storica'!M26,'Serie storica'!O26,'Serie storica'!Q26,'Serie storica'!S26,) -> 18.216667 | G26: =AVERAGE('Serie storica'!L26,'Serie storica'!N26,'Serie storica'!P26,'Serie storica'!R26,'Serie storica'!T26,) -> 9.9 | H26: =F26-G26 -> 8.3166667 | I26: =AVERAGE('Serie storica'!U26,'Serie storica'!W26,'Serie storica'!Y26,'Serie storica'!AA26,'Serie storica'!AC26) -> 23.72 | J26: =AVERAGE('Serie storica'!V26,'Serie storica'!X26,'Serie storica'!Z26,'Serie storica'!AB26,'Serie storica'!AD26) -> 13.74 | K26: =I26-J26 -> 9.98
B27: Più di 64 | C27: =AVERAGE('Serie storica'!C27,'Serie storica'!E27,'Serie storica'!G27,'Serie storica'!I27) -> 16.725 | D27: =AVERAGE('Serie storica'!D27,'Serie storica'!F27,'Serie storica'!H27,'Serie storica'!J27) -> 13.125 | E27: =C27-D27 -> 3.6 | F27: =AVERAGE('Serie storica'!K27,'Serie storica'!M27,'Serie storica'!O27,'Serie storica'!Q27,'Serie storica'!S27,) -> 8.75 | G27: =AVERAGE('Serie storica'!L27,'Serie storica'!N27,'Serie storica'!P27,'Serie storica'!R27,'Serie storica'!T27,) -> 6.7166667 | H27: =F27-G27 -> 2.0333333 | I27: =AVERAGE('Serie storica'!U27,'Serie storica'!W27,'Serie storica'!Y27,'Serie storica'!AA27,'Serie storica'!AC27) -> 11.62 | J27: =AVERAGE('Serie storica'!V27,'Serie storica'!X27,'Serie storica'!Z27,'Serie storica'!AB27,'Serie storica'!AD27) -> 8.84 | K27: =I27-J27 -> 2.78

Sheet Sheet3
C1: Pre crisi (2005-2008) | D1: Periodo crisi (2009-2013) | E1: Post crisi (2014-2018)
A2: Italia | B2: Meno di 18 | C2: 5.825 | D2: 5.4333333 | E2: 7.16
B3: 18-24 | C3: 4.225 | D3: 4.5833333 | E3: 5.64
B4: 25-54 | C4: 3.45 | D4: 3.6666667 | E4: 4.92
B5: 55-64 | C5: 3.325 | D5: 3.2166667 | E5: 5.08
B6: Più di 64 | C6: 1.5 | D6: 1.4166667 | E6: 1.38
A7: Francia | B7: Meno di 18 | C7: 19.3 | D7: 15.183333 | E7: 18.6
B8: 18-24 | C8: 14.25 | D8: 10.883333 | E8: 12.66
B9: 25-54 | C9: 11.675 | D9: 9.3166667 | E9: 12.12
B10: 55-64 | C10: 8.525 | D10: 6.2166667 | E10: 7.68
B11: Più di 64 | C11: 2.925 | D11: 2.1166667 | E11: 2.64
A12: Germania | B12: Meno di 18 | C12: 16.05 | D12: 13.15 | E12: 16.06
B13: 18-24 | C13: 12.475 | D13: 9.45 | E13: 10.4
B14: 25-54 | C14: 10.925 | D14: 8.0833333 | E14: 9.1
B15: 55-64 | C15: 12.65 | D15: 8.6666667 | E15: 9.42
B16: Più di 64 | C16: 1.4 | D16: 1.1166667 | E16: 1.4
A17: Grecia | B17: Meno di 18 | C17: 2.625 | D17: 2.7833333 | E17: 6.22
B18: 18-24 | C18: 2.55 | D18: 2.4666667 | E18: 3.76
B19: 25-54 | C19: 2.625 | D19: 2.7833333 | E19: 4.1
B20: 55-64 | C20: 4.225 | D20: 3.9666667 | E20: 3.6
B21: Più di 64 | C21: 3.825 | D21: 3.5166667 | E21: 1.82
A22: Portogallo | B22: Meno di 18 | C22: 7.725 | D22: 7.1 | E22: 6.24
B23: 18-24 | C23: 5.85 | D23: 6.35 | E23: 6.92
B24: 25-54 | C24: 5.925 | D24: 5.7 | E24: 6.16
B25: 55-64 | C25: 8.9 | D25: 8.3166667 | E25: 9.98
B26: Più di 64 | C26: 3.6 | D26: 2.0333333 | E26: 2.78
